
BEGIN:VCALENDAR
VERSION:2.0
PRODID:-//World Boccia - ECPv6.9.0//NONSGML v1.0//EN
CALSCALE:GREGORIAN
METHOD:PUBLISH
X-ORIGINAL-URL:https://www.worldboccia.com
X-WR-CALDESC:Events for World Boccia
REFRESH-INTERVAL;VALUE=DURATION:PT1H
X-Robots-Tag:noindex
X-PUBLISHED-TTL:PT1H
BEGIN:VTIMEZONE
TZID:Europe/London
BEGIN:DAYLIGHT
TZOFFSETFROM:+0000
TZOFFSETTO:+0100
TZNAME:BST
DTSTART:20220327T010000
END:DAYLIGHT
BEGIN:STANDARD
TZOFFSETFROM:+0100
TZOFFSETTO:+0000
TZNAME:GMT
DTSTART:20221030T010000
END:STANDARD
END:VTIMEZONE
BEGIN:VEVENT
DTSTART;VALUE=DATE:20220627
DTEND;VALUE=DATE:20220705
DTSTAMP:20260426T053650
CREATED:20211210T154926Z
LAST-MODIFIED:20220517T131707Z
UID:38262-1656288000-1656979199@www.worldboccia.com
SUMMARY:Pajulahti 2022 European Para Youth Games
DESCRIPTION:Pajulahti 2022 European Para Youth Games\nOfficial Website
URL:https://www.worldboccia.com/event/pajulahti-2022-european-para-youth-games/
ATTACH;FMTTYPE=image/jpeg:https://www.worldboccia.com/wp-content/uploads/2021/01/IMG_4921-1-e1610565328126.jpg
END:VEVENT
BEGIN:VEVENT
DTSTART;VALUE=DATE:20220703
DTEND;VALUE=DATE:20220712
DTSTAMP:20260426T053650
CREATED:20211210T155003Z
LAST-MODIFIED:20220704T231203Z
UID:38264-1656806400-1657583999@www.worldboccia.com
SUMMARY:Póvoa de Varzim 2022 World Boccia Cup
DESCRIPTION:Póvoa de Varzim 2022 World Boccia Cup \nSchedules & Results \nLive Streaming (Court 2) \nEvent’s Facebook
URL:https://www.worldboccia.com/event/povoa-de-varzim-2022-world-boccia-cup/
ATTACH;FMTTYPE=image/png:https://www.worldboccia.com/wp-content/uploads/2021/12/Logo-horizontal-2022.png
END:VEVENT
BEGIN:VEVENT
DTSTART;VALUE=DATE:20220731
DTEND;VALUE=DATE:20220808
DTSTAMP:20260426T053650
CREATED:20211210T155047Z
LAST-MODIFIED:20230719T144135Z
UID:38266-1659225600-1659916799@www.worldboccia.com
SUMMARY:Veldhoven 2022 World Boccia Challenger
DESCRIPTION:Veldhoven 2022 World Boccia Challenger\nThe official Veldhoven 2022 World Boccia Challenger will take place from Monday the 1st until Saturday the 6th of August 2022 in the Netherlands at the multifunctional venue NH Eindhoven Conference Centre Koningshof in the city Veldhoven nearby Eindhoven. \nThe best male and female boccia players of the world will compete in 8 Individuals and 3 Teams & Pairs Medal events. \nDate: Monday the 1st until Saturday the 6th of August 2022 \nLocation: NH Eindhoven Conference Centre Koningshof\, The Netherlands
URL:https://www.worldboccia.com/event/veldhoven-2022-world-boccia-intercontinental-challenger/
ATTACH;FMTTYPE=image/png:https://www.worldboccia.com/wp-content/uploads/2021/12/Intercontinental-Challenger-Boccia-2022_logo_RGB-01-03.png
END:VEVENT
END:VCALENDAR