
BEGIN:VCALENDAR
VERSION:2.0
PRODID:-//World Boccia - ECPv6.9.0//NONSGML v1.0//EN
CALSCALE:GREGORIAN
METHOD:PUBLISH
X-ORIGINAL-URL:https://www.worldboccia.com
X-WR-CALDESC:Events for World Boccia
REFRESH-INTERVAL;VALUE=DURATION:PT1H
X-Robots-Tag:noindex
X-PUBLISHED-TTL:PT1H
BEGIN:VTIMEZONE
TZID:Europe/London
BEGIN:DAYLIGHT
TZOFFSETFROM:+0000
TZOFFSETTO:+0100
TZNAME:BST
DTSTART:20220327T010000
END:DAYLIGHT
BEGIN:STANDARD
TZOFFSETFROM:+0100
TZOFFSETTO:+0000
TZNAME:GMT
DTSTART:20221030T010000
END:STANDARD
END:VTIMEZONE
BEGIN:VEVENT
DTSTART;VALUE=DATE:20220516
DTEND;VALUE=DATE:20220524
DTSTAMP:20260426T041022
CREATED:20211210T160842Z
LAST-MODIFIED:20220517T142644Z
UID:38276-1652659200-1653350399@www.worldboccia.com
SUMMARY:Johannesburg 2022 World Boccia Africa Regional Championships
DESCRIPTION:Johannesburg 2022 World Boccia Africa Regional Championships\nCompetition First Info\nCompetition Guide\nFacebook Page\nLive Streaming
URL:https://www.worldboccia.com/event/johannesburg-2022-world-boccia-africa-regional-championships/
ATTACH;FMTTYPE=image/png:https://www.worldboccia.com/wp-content/uploads/2021/12/CompetitionLogo.png
END:VEVENT
END:VCALENDAR